BEGIN:VCALENDAR
VERSION:2.0
PRODID:-//Piletilevi//ICS generator//EN
METHOD:PUBLISH
BEGIN:VEVENT
TZID:Europe/Tallinn
DTSTART:20260502T200000
DTEND:20260502T220000
TRANSP:OPAQUE
SEQUENCE:0
UID:69e8d80f1c66c
DTSTAMP:20260422T141543Z
SUMMARY:RIGA Reggae akustiskais koncerts Tipogrāfijas radošajā kvartālā
DESCRIPTION:RIGA Reggae akustiskais koncerts Tipogrāfijas radošajā kv...
ORGANIZER:Tipogrāfijas radošais kvartāls SIA
LOCATION:Tipogrāfijas radošais kvartāls\, Latvija\, Liepāja\,\, A...
CLASS:PUBLIC
BEGIN:VALARM
TRIGGER:-PT60M
ACTION:DISPLAY
DESCRIPTION:Reminder
END:VALARM
END:VEVENT
END:VCALENDAR