BEGIN:VCALENDAR
VERSION:2.0
PRODID:-//Piletilevi//ICS generator//EN
METHOD:PUBLISH
BEGIN:VEVENT
TZID:Europe/Tallinn
DTSTART:20260425T190000
DTEND:20260425T230000
TRANSP:OPAQUE
SEQUENCE:0
UID:69e8ca839e557
DTSTAMP:20260422T131755Z
SUMMARY:Lvbet Scores Fight night Liepaja 6 Tiešraide
DESCRIPTION:KĀ IEGĀDĀTIES TIEŠRAIDES BIĻETI? •    IGĀDĀJIES ...
ORGANIZER:KK&RM PROMOTIONS
LOCATION:Biļešu Serviss tiešsaiste\, Latvija\, Rīga\, Krišjāņa...
CLASS:PUBLIC
BEGIN:VALARM
TRIGGER:-PT60M
ACTION:DISPLAY
DESCRIPTION:Reminder
END:VALARM
END:VEVENT
END:VCALENDAR