BEGIN:VCALENDAR
VERSION:2.0
PRODID:-//Piletilevi//ICS generator//EN
METHOD:PUBLISH
BEGIN:VEVENT
TZID:Europe/Tallinn
DTSTART:20260613T190000
DTEND:20260613T203000
TRANSP:OPAQUE
SEQUENCE:0
UID:69e8a6b7d125d
DTSTAMP:20260422T104511Z
SUMMARY:Sirds izvēle
DESCRIPTION:Описание мероприятия доступно н...
ORGANIZER:Dance Beat studio SIA
LOCATION:VEF kultūras pils\, Латвия\, Rīga\, Ropažu iela 2
CLASS:PUBLIC
BEGIN:VALARM
TRIGGER:-PT60M
ACTION:DISPLAY
DESCRIPTION:Reminder
END:VALARM
END:VEVENT
END:VCALENDAR