BEGIN:VCALENDAR
VERSION:2.0
PRODID:-//Piletilevi//ICS generator//EN
METHOD:PUBLISH
BEGIN:VEVENT
TZID:Europe/Tallinn
DTSTART:20260617T190000
DTEND:20260617T210000
TRANSP:OPAQUE
SEQUENCE:0
UID:69e7d882bba07
DTSTAMP:20260421T200522Z
SUMMARY:Mad Mozart: Unique Sympho Show
DESCRIPTION:MAD MOZART piedāvā ekskluzīvu simfonisko šovu Daugavpil...
ORGANIZER:DREAM SOLUTION SIA
LOCATION:Daugavpils Kultūras pils\, Latvija\, Daugavpils\, Smilšu i...
CLASS:PUBLIC
BEGIN:VALARM
TRIGGER:-PT60M
ACTION:DISPLAY
DESCRIPTION:Reminder
END:VALARM
END:VEVENT
END:VCALENDAR