BEGIN:VCALENDAR
VERSION:2.0
PRODID:-//Piletilevi//ICS generator//EN
METHOD:PUBLISH
BEGIN:VEVENT
TZID:Europe/Tallinn
DTSTART:20260606T200000
DTEND:20260606T220000
TRANSP:OPAQUE
SEQUENCE:0
UID:69e7675209a67
DTSTAMP:20260421T120226Z
SUMMARY:Mazais Princis 'Mīlestības transformācija 2'
DESCRIPTION:Mazais Princis „Mīlestības transformācija 2” Vasaras ...
ORGANIZER:Tipogrāfijas radošais kvartāls SIA
LOCATION:Tipogrāfijas radošais kvartāls\, Latvija\, Liepāja\,\, A...
CLASS:PUBLIC
BEGIN:VALARM
TRIGGER:-PT60M
ACTION:DISPLAY
DESCRIPTION:Reminder
END:VALARM
END:VEVENT
END:VCALENDAR