BEGIN:VCALENDAR
VERSION:2.0
PRODID:-//Piletilevi//ICS generator//EN
METHOD:PUBLISH
BEGIN:VEVENT
TZID:Europe/Tallinn
DTSTART:20260425T200000
DTEND:20260425T210000
TRANSP:OPAQUE
SEQUENCE:0
UID:69e65f4346561
DTSTAMP:20260420T171547Z
SUMMARY:Balcia piedāvā: LBL Pusfināla 2.spēle - Rīgas Zeļļi vs Valmiera Glass VIA
DESCRIPTION:Balcia piedāvā: LBL Pusfināla 2.spēle -  Rīgas Zeļļi...
ORGANIZER:Rīgas Zeļļi BDR
LOCATION:Komandu sporta spēļu halle\, Latvija\, Rīga\, Krišjāņa...
CLASS:PUBLIC
BEGIN:VALARM
TRIGGER:-PT60M
ACTION:DISPLAY
DESCRIPTION:Reminder
END:VALARM
END:VEVENT
END:VCALENDAR