BEGIN:VCALENDAR
VERSION:2.0
PRODID:-//Piletilevi//ICS generator//EN
METHOD:PUBLISH
BEGIN:VEVENT
TZID:Europe/Tallinn
DTSTART:20260510T160000
DTEND:20260510T190000
TRANSP:OPAQUE
SEQUENCE:0
UID:69e6c68b6e68f
DTSTAMP:20260421T003627Z
SUMMARY:Meistarklase 'Interjera gleznas un abstrakcija' / Мастер-класс 'Интерьерные картины и абстракция'
DESCRIPTION:Profesionāla mākslinieka vadībā Jūs radīsiet skaistu g...
ORGANIZER:Irina Chernobay
LOCATION:I am Picasso Art Studio\, Latvija\, Rīga\, Bruņinieku 36
CLASS:PUBLIC
BEGIN:VALARM
TRIGGER:-PT60M
ACTION:DISPLAY
DESCRIPTION:Reminder
END:VALARM
END:VEVENT
END:VCALENDAR