BEGIN:VCALENDAR
VERSION:2.0
PRODID:-//Piletilevi//ICS generator//EN
METHOD:PUBLISH
BEGIN:VEVENT
TZID:Europe/Tallinn
DTSTART:20260425T204500
DTEND:20260425T223000
TRANSP:OPAQUE
SEQUENCE:0
UID:69e74bac7b005
DTSTAMP:20260421T100428Z
SUMMARY:Perfektie
DESCRIPTION:Perfektie Žanrs: Komēdija\, Drāma Režisors: Dž. Dž. D...
ORGANIZER:Kino Lora SIA
LOCATION:KINO LORA\, Sigulda\, Латвия\, Sigulda\, TC "Šokolād...
CLASS:PUBLIC
BEGIN:VALARM
TRIGGER:-PT60M
ACTION:DISPLAY
DESCRIPTION:Reminder
END:VALARM
END:VEVENT
END:VCALENDAR