BEGIN:VCALENDAR
VERSION:2.0
PRODID:-//Piletilevi//ICS generator//EN
METHOD:PUBLISH
BEGIN:VEVENT
TZID:Europe/Tallinn
DTSTART:20260815T200000
DTEND:20260815T220000
TRANSP:OPAQUE
SEQUENCE:0
UID:69e75089d51a9
DTSTAMP:20260421T102513Z
SUMMARY:Aminata & Baltic Groove Orchestra
DESCRIPTION:Aminata & Baltic Groove Orchestra Tipogrāfijas radošais kv...
ORGANIZER:Tipogrāfijas radošais kvartāls SIA
LOCATION:Tipogrāfijas radošais kvartāls\, Latvija\, Liepāja\,\, A...
CLASS:PUBLIC
BEGIN:VALARM
TRIGGER:-PT60M
ACTION:DISPLAY
DESCRIPTION:Reminder
END:VALARM
END:VEVENT
END:VCALENDAR