BEGIN:VCALENDAR
VERSION:2.0
PRODID:-//Piletilevi//ICS generator//EN
METHOD:PUBLISH
BEGIN:VEVENT
TZID:Europe/Tallinn
DTSTART:20260711T200000
DTEND:20260711T220000
TRANSP:OPAQUE
SEQUENCE:0
UID:69e74e4608c05
DTSTAMP:20260421T101534Z
SUMMARY:Kautkaili
DESCRIPTION:Kautkaili kopā ar   Baltic Groove Orchestra Jāņa Ivušk...
ORGANIZER:Tipogrāfijas radošais kvartāls SIA
LOCATION:Tipogrāfijas radošais kvartāls\, Latvija\, Liepāja\,\, A...
CLASS:PUBLIC
BEGIN:VALARM
TRIGGER:-PT60M
ACTION:DISPLAY
DESCRIPTION:Reminder
END:VALARM
END:VEVENT
END:VCALENDAR