BEGIN:VCALENDAR
VERSION:2.0
PRODID:-//Piletilevi//ICS generator//EN
METHOD:PUBLISH
BEGIN:VEVENT
TZID:Europe/Tallinn
DTSTART:20260724T180000
DTEND:20260725T040000
TRANSP:OPAQUE
SEQUENCE:0
UID:69e74e1e458a8
DTSTAMP:20260421T101454Z
SUMMARY:Piektdienas biļete - Festivāls Saldus Saule 2026
DESCRIPTION:
ORGANIZER:Festivāls Saldus saule SIA
LOCATION:Saldus Kalnsētas parks\, Latvija\, Saldus\, Kalnsētas
CLASS:PUBLIC
BEGIN:VALARM
TRIGGER:-PT60M
ACTION:DISPLAY
DESCRIPTION:Reminder
END:VALARM
END:VEVENT
END:VCALENDAR