BEGIN:VCALENDAR
VERSION:2.0
PRODID:-//Piletilevi//ICS generator//EN
METHOD:PUBLISH
BEGIN:VEVENT
TZID:Europe/Tallinn
DTSTART:20260428T190000
DTEND:20260502T220000
TRANSP:OPAQUE
SEQUENCE:0
UID:69e4e1d019469
DTSTAMP:20260419T140816Z
SUMMARY:MASA Mini Jazz Fest | Abonements
DESCRIPTION:"MASA Mini Jazz Fest" norisināsies no 28. aprīļa līdz 2....
ORGANIZER:MASA studija SIA
LOCATION:MASA kultūrbārs\, Latvija\, Rīga\, Elizabetes iela 67\,
CLASS:PUBLIC
BEGIN:VALARM
TRIGGER:-PT60M
ACTION:DISPLAY
DESCRIPTION:Reminder
END:VALARM
END:VEVENT
END:VCALENDAR